BEGIN:VCALENDAR
VERSION:2.0
PRODID:-//wp-events-plugin.com//7.2.3.1//EN
TZID:Pacific/Tahiti
X-WR-TIMEZONE:Pacific/Tahiti
BEGIN:VEVENT
UID:28@conservatoire.pf
DTSTART;TZID=Pacific/Tahiti:20240426T193000
DTEND;TZID=Pacific/Tahiti:20240426T213000
DTSTAMP:20240625T202202Z
URL:https://conservatoire.pf/events/te-varua-o-te-reo/
SUMMARY:TE VĀRUA O TE REO
DESCRIPTION:Un conte fantastique\, avec l'atelier lyrique et les élèves d
 e théâtre du TE FARE 'UPA RAU.\n\n Vendredi 26 avril 2024\n\n Petit thé
 âtre de la Maison de la Culture - TE FARE TAUHITI NUI\n\n 19H30
ATTACH;FMTTYPE=image/jpeg:https://conservatoire.pf/wp-content/uploads/2024
 /04/AFFICHE-VF-TE-VARUA-O-TE-REO-042024.png
CATEGORIES:2024
LOCATION:Petit Theatre De La Maison De La Culture\, Papeete\, Papeete\, Fre
 nch Polynesia
X-APPLE-STRUCTURED-LOCATION;VALUE=URI;X-ADDRESS=Papeete\, Papeete\, French 
 Polynesia;X-APPLE-RADIUS=100;X-TITLE=Petit Theatre De La Maison De La Cult
 ure:geo:0,0
END:VEVENT
BEGIN:VTIMEZONE
TZID:Pacific/Tahiti
X-LIC-LOCATION:Pacific/Tahiti
BEGIN:STANDARD
DTSTART:20230427T193000
TZOFFSETFROM:-1000
TZOFFSETTO:-1000
TZNAME:-10
END:STANDARD
END:VTIMEZONE
END:VCALENDAR