BEGIN:VCALENDAR
VERSION:2.0
PRODID:-//wp-events-plugin.com//7.2.3.1//EN
TZID:Pacific/Tahiti
X-WR-TIMEZONE:Pacific/Tahiti
BEGIN:VEVENT
UID:14@conservatoire.pf
DTSTART;TZID=Pacific/Tahiti:20231119T170000
DTEND;TZID=Pacific/Tahiti:20231119T190000
DTSTAMP:20231110T002543Z
URL:https://conservatoire.pf/events/te-tau-auhune-le-chemin-vers-labondanc
 e/
SUMMARY:Te Tau ’Auhune :  le chemin vers l'Abondance
DESCRIPTION:Les élèves et professeurs du Conservatoire artistique – Te 
 Fare 'Upa Rau invitent la population à les rejoindre le dimanche 19 novem
 bre à 17 h\, dans les jardins du Musée de Tahiti et des îles\, qui accu
 eillent une cérémonie marquant l'ouverture de la période de l'Abondance
 \, le "Tau 'Auhune" du Matari’i i Ni’a.\nCette période\, inscrite dan
 s l'Histoire et dans la vie du Fenua\, sera célébrée durant un spectacl
 e de deux heures illustrant le thème de l'Abondance de la Parole\, sourc
 e de Vie. Le Conservatoire engage plus d'une centaine de ses artistes et d
 e ses invités\, qui tous témoigneront de l'importance et du respect des 
 cycles de la Nature sur chacun de nos archipels. 'Ōrero\, chanteurs\, dan
 seurs et conteurs se succèderont sur le Paepae du Musée\, partenaire de 
 la cérémonie.\nL'entrée est libre pour ce spectacle dont la durée est 
 estimée à deux heures. Il est demandé à la population d'apporter son p
 ē'ue ainsi qu'une offrande de fruits\, les offrandes étant partagées à
  l'issue de ce beau son et lumière.\nTéléchargez le programme ici\n&nbs
 p\;
ATTACH;FMTTYPE=image/jpeg:https://conservatoire.pf/wp-content/uploads/2023
 /11/AFFICHE-TE-TAU-AUHUNE-2023-2.0-min.png
CATEGORIES:2023
LOCATION:les jardins du Musée de Tahiti et des îles\, Punaauia\, Punaauia
 \, French Polynesia
X-APPLE-STRUCTURED-LOCATION;VALUE=URI;X-ADDRESS=Punaauia\, Punaauia\, Frenc
 h Polynesia;X-APPLE-RADIUS=100;X-TITLE=les jardins du Musée de Tahiti et 
 des îles:geo:0,0
END:VEVENT
BEGIN:VTIMEZONE
TZID:Pacific/Tahiti
X-LIC-LOCATION:Pacific/Tahiti
BEGIN:STANDARD
DTSTART:20221119T170000
TZOFFSETFROM:-1000
TZOFFSETTO:-1000
TZNAME:-10
END:STANDARD
END:VTIMEZONE
END:VCALENDAR