BEGIN:VCALENDAR
VERSION:2.0
PRODID:-//wp-events-plugin.com//7.2.3.1//EN
TZID:Pacific/Tahiti
X-WR-TIMEZONE:Pacific/Tahiti
BEGIN:VEVENT
UID:50@conservatoire.pf
DTSTART;TZID=Pacific/Tahiti:20251024T180000
DTEND;TZID=Pacific/Tahiti:20251024T230000
DTSTAMP:20251009T014611Z
URL:https://conservatoire.pf/events/tahiti-soul-jazz-festival-2025/
SUMMARY:TAHITI SOUL JAZZ FESTIVAL 2025
DESCRIPTION:\n 𝐓𝐀𝐇𝐈𝐓𝐈 𝐒𝐎𝐔𝐋 𝐉𝐀𝐙𝐙 
 𝐅𝐄𝐒𝐓𝐈𝐕𝐀𝐋 – 𝟑𝐞̀𝐦𝐞 𝐄́𝐃𝐈𝐓
 𝐈𝐎𝐍 \n\n\nAprès deux éditions inoubliables\, le TSJ Festival re
 vient plus fort que jamais les 24 &amp\; 25 octobre 2025 dans les magnifiq
 ues jardins du Musée de Tahiti et des Îles \n\n\n Au programme :\n Le Bi
 g Band du Conservatoire (CAPF) – ouverture du Festival avec un répertoi
 re inédit !\n CARACOLA – un duo piano/trombone aux sonorités uniques.\
 n Bruno DEMOUGEOT Quartet – un jazz teinté d’influences polynésienne
 s.\n JOSIA – trompettiste\, guitariste\, batteur et chanteur : la révé
 lation musicale du Festival !\n Aldo RAVEINO &amp\; MANAHUNE – la puissa
 nce de la soul polynésienne !\n New Orleans Jazz Orchestra &amp\; NOJO Yo
 uth Orchestra – un pont musical entre le Pacifique et la Nouvelle-Orléa
 ns.\n Brass Band de la Garde Républicaine – pour la première fois en l
 ive à Tahiti !\n André MANOUKIAN – un concert unique avec le Brass Ban
 d\, en exclusivité mondiale.\n China MOSES – la diva internationale de 
 la soul &amp\; du jazz en clôture magistrale !\n\n\n Trois jours de magie
 \, de groove et de partage autour du jazz et de la soul\, avec des invité
 s exceptionnels venus de Polynésie\, de Nouvelle-Orléans et de France.\n
 \n\n 24 &amp\; 25 octobre 2025\n Jardins du Musée de Tahiti et des Îles\
 n Billetterie disponible dès maintenant sur Fenua Moove : http://bit.ly/3
 KbYOJN\n\n\n Ne manquez pas LE rendez-vous musical de l’année en Polyn
 ésie !\n
ATTACH;FMTTYPE=image/jpeg:https://conservatoire.pf/wp-content/uploads/2025
 /10/Affiche-TSJ-3071-4075-1-scaled.jpg
CATEGORIES:2025
END:VEVENT
BEGIN:VTIMEZONE
TZID:Pacific/Tahiti
X-LIC-LOCATION:Pacific/Tahiti
BEGIN:STANDARD
DTSTART:20241024T180000
TZOFFSETFROM:-1000
TZOFFSETTO:-1000
TZNAME:-10
END:STANDARD
END:VTIMEZONE
END:VCALENDAR