BEGIN:VCALENDAR
VERSION:2.0
PRODID:-//wp-events-plugin.com//7.2.3.1//EN
TZID:Pacific/Tahiti
X-WR-TIMEZONE:Pacific/Tahiti
BEGIN:VEVENT
UID:27@conservatoire.pf
DTSTART;TZID=Pacific/Tahiti:20240417T183000
DTEND;TZID=Pacific/Tahiti:20240417T203000
DTSTAMP:20240625T202202Z
URL:https://conservatoire.pf/events/recital-et-concert-marc-garetto-jonath
 an-gleyse/
SUMMARY:Récital et Concert : Marc GARETTO & Jonathan GLEYSE
DESCRIPTION: Mercredi 17 avril 2024 à 18h30 : récital Jonathan GLEYSE ave
 c l'ensemble de clarinettes du Conservatoire\n Vendredi 19 avril 2024 à 1
 9h30 : concert Jonathan GLEYSE et l'orchestre du Conservatoire sous la dir
 ection de Marc GARETTO 
ATTACH;FMTTYPE=image/jpeg:https://conservatoire.pf/wp-content/uploads/2024
 /04/Affiche-MEP-2024-scaled.jpg
CATEGORIES:2024
END:VEVENT
BEGIN:VTIMEZONE
TZID:Pacific/Tahiti
X-LIC-LOCATION:Pacific/Tahiti
BEGIN:STANDARD
DTSTART:20230418T183000
TZOFFSETFROM:-1000
TZOFFSETTO:-1000
TZNAME:-10
END:STANDARD
END:VTIMEZONE
END:VCALENDAR