BEGIN:VCALENDAR
VERSION:2.0
PRODID:-//wp-events-plugin.com//7.2.3.1//EN
TZID:Pacific/Tahiti
X-WR-TIMEZONE:Pacific/Tahiti
BEGIN:VEVENT
UID:15@conservatoire.pf
DTSTART;TZID=Pacific/Tahiti:20231122T080000
DTEND;TZID=Pacific/Tahiti:20231122T120000
DTSTAMP:20231113T202258Z
URL:https://conservatoire.pf/events/mercredi-22-novembre-un-don-du-sang-en
 -musique/
SUMMARY:mercredi 22 novembre\, un don du sang... en musique !
DESCRIPTION:\nSi ce mois de novembre est marqué\, pour le Conservatoire\, 
 par la commémoration en son et lumière de l'ouverture de la période de 
 l'Abondance* et par l'ouverture du XXIVème stage international du Conserv
 atoire**\, une autre activité ne manque pas d'intérêt : les espaces du 
 TE FARE UPA RAU accueilleront les équipes du centre de transfusion sangui
 ne du CHPF\, pour un don du sang... en musique\, s'il vous plaît. Ce don 
 du sang\, spécial***\, se tiendra le mercredi 22 novembre dans la matiné
 e (8:00/Midi) dans les espaces du grand auditorium de l'établissement\, e
 t sera animé par Jérôme Descamps\, professeur de trombone et d'éveil 
 musical\, par Samuel Magott\, professeur de piano et par leurs amis et co
 llègues musiciens qui viendront jouer pour l'équipe soignante et les don
 neurs.\n\n\nCe don du sang est ouvert au grand public\, donc à toutes et 
 à tous\, de 8:00 à midi. MAURUURU de défendre cette belle cause ! Merci
  de diffuser le message autour de vous !\n\n\nRappel\n* Spectacle Tau Auhu
 ne (Ouverture de la période de l'Abondance) : Dimanche 19 novembre\, 17:0
 0\, jardins du Musée de Tahiti et ses îles à Punaauia (entrée libre\, 
 son et lumière\, peue : deux heures de spectacle)\;\n** Ouverture du stag
 e international du conservatoire : lundi 20 novembre\, 7:30\, salle de dan
 se traditionnelle du TE FARE UPA RAU à Tipaerui\;\n*** Don du sang en mus
 ique : mercredi 22 novembre\, de 8:00 à Midi\, grand auditorium du CAPF 
 à Tipaerui.
ATTACH;FMTTYPE=image/jpeg:https://conservatoire.pf/wp-content/uploads/2023
 /11/don-du-sang-concervatoire-2ond-proposition-final-copie-min-scaled.jpg
CATEGORIES:2023
LOCATION:Grand Auditorium du Conservatoire Artistique - TE FARE 'UPA RAU\, 
 Tipaerui\, Papeete\, French Polynesia
X-APPLE-STRUCTURED-LOCATION;VALUE=URI;X-ADDRESS=Tipaerui\, Papeete\, French
  Polynesia;X-APPLE-RADIUS=100;X-TITLE=Grand Auditorium du Conservatoire Ar
 tistique - TE FARE 'UPA RAU:geo:0,0
END:VEVENT
BEGIN:VTIMEZONE
TZID:Pacific/Tahiti
X-LIC-LOCATION:Pacific/Tahiti
BEGIN:STANDARD
DTSTART:20221122T080000
TZOFFSETFROM:-1000
TZOFFSETTO:-1000
TZNAME:-10
END:STANDARD
END:VTIMEZONE
END:VCALENDAR