BEGIN:VCALENDAR
VERSION:2.0
PRODID:-//wp-events-plugin.com//7.2.3.1//EN
TZID:Pacific/Tahiti
X-WR-TIMEZONE:Pacific/Tahiti
BEGIN:VEVENT
UID:51@conservatoire.pf
DTSTART;TZID=Pacific/Tahiti:20251120T090000
DTEND;TZID=Pacific/Tahiti:20251122T200000
DTSTAMP:20251104T222732Z
URL:https://conservatoire.pf/events/matarii-i-nia-reconnectons-nous/
SUMMARY:Matari‘i i ni‘a – Reconnectons-nous
DESCRIPTION:Chaque année\, l’apparition des Pléiades dans le ciel marqu
 e l’entrée dans Matari‘i i ni‘a\, une saison sacrée symbole de fer
 tilité\, prospérité et de connexion profonde entre l’homme et la natu
 re.\n📅 Le 20 novembre devient officiellement jour férié en Polynésie
  française\, une belle reconnaissance de notre patrimoine culturel. Cette
  journée est une invitation à célébrer le lever des Pléiades et le d
 ébut de la saison d’abondance.\n🎉 Cette année\, la célébration pr
 end une dimension toute particulière.La population et les visiteurs de Ta
 hiti Et Ses Îles sont conviés à participer aux festivités :\n🔸 Le 2
 0 novembre à Papeete (jour férié)‘Ōrero\, hīmene\, parade culturell
 e\, concerts\, bal populaire et feux d’artifice sur le Front de mer et 
 à Vaiete.\n🔸 Le 22 novembre à Tautira – Parc TatatuaActivités trad
 itionnelles\, ma‘a tahiti\, ateliers musicaux\, cérémonie du ‘ava\, 
 observation des étoiles et une série de concerts.\n🌕 Sous la directio
 n du Pays\, en partenariat avec la Maison de la Culture de Tahiti et Tahit
 i Tourisme.\n✨ D’autres événements sont également organisés à tra
 vers les îles par des associations\, communes et établissements publics 
 ou privés. Chacun contribue à faire vivre les savoirs ancestraux\, à tr
 ansmettre les pratiques culturelles et à renforcer le lien sacré entre l
 ’homme\, la nature et les étoiles.\n👉 Cliquez ici pour en savoir plu
 s et découvrir les citations autour de Matari‘i i ni‘a.
ATTACH;FMTTYPE=image/jpeg:https://conservatoire.pf/wp-content/uploads/2025
 /11/Affiche-Matarii-i-nia.jpg
CATEGORIES:2025
END:VEVENT
BEGIN:VTIMEZONE
TZID:Pacific/Tahiti
X-LIC-LOCATION:Pacific/Tahiti
BEGIN:STANDARD
DTSTART:20241120T090000
TZOFFSETFROM:-1000
TZOFFSETTO:-1000
TZNAME:-10
END:STANDARD
END:VTIMEZONE
END:VCALENDAR