BEGIN:VCALENDAR
VERSION:2.0
PRODID:-//wp-events-plugin.com//7.2.3.1//EN
TZID:Pacific/Tahiti
X-WR-TIMEZONE:Pacific/Tahiti
BEGIN:VEVENT
UID:43@conservatoire.pf
DTSTART;TZID=Pacific/Tahiti:20250502T183000
DTEND;TZID=Pacific/Tahiti:20250503T203000
DTSTAMP:20250430T210012Z
URL:https://conservatoire.pf/events/mamma-mia-bienvenue-a-mataiva/
SUMMARY:MAMMA MIA! BIENVENUE À MATAIVA
DESCRIPTION:\n 𝐌𝐀𝐌𝐌𝐀 𝐌𝐈𝐀 𝐀̀ 𝐌𝐀𝐓𝐀
 𝐈𝐕𝐀 \n\n\nIls et elles vont vous étonner ! \n\n\nRires\, chants\
 , comédie : les élèves avancés de la classe d'Art dramatique du Conser
 vatoire\, dirigés par notre professeure Christine Bennett Thuleau\, relè
 vent un sacré défi ! \n\n\n Interpréter les rôles titres d'une célèb
 re comédie musicale internationale... mais transposée à MATAIVA ! \n\n\
 nLa scène du Petit Théâtre de la Maison de la Culture\, partenaire de c
 oproduction\, accueillera toute la troupe du TE FARE 'UPA RAU :\n Vendredi
  2 et samedi 3 mai 2025\n À 18h30\n\n\nDeux spectacles hauts en couleur o
 ù le public découvrira de nouveaux visages et d’incroyables talents\, 
 maniant l’humour comme on sait si bien le faire dans nos îles ! \n\n\n 
 Billetterie :\n Guichets de la Maison de la Culture\n En ligne (https://bi
 lletterie.maisondelaculture.pf/index.php...)\n Tél. : 40 544 544\n\n\n Mi
 se en scène et direction des acteurs : Christine Bennett Thuleau\n Accomp
 agnement piano : Nathalie Villereynier\n Décors : Capf Tonio\n Infographi
 e : Bcom/Capf\, Terehau Tahiata\n Photographie : René Maillard pour Capf2
 5\n\n\n Ne manquez pas cet événement exceptionnel ! \n
ATTACH;FMTTYPE=image/jpeg:https://conservatoire.pf/wp-content/uploads/2025
 /04/VF-AFFICHE-THEATRE-MAMMA-MIA-2025-scaled.jpg
CATEGORIES:2025
END:VEVENT
BEGIN:VTIMEZONE
TZID:Pacific/Tahiti
X-LIC-LOCATION:Pacific/Tahiti
BEGIN:STANDARD
DTSTART:20240502T183000
TZOFFSETFROM:-1000
TZOFFSETTO:-1000
TZNAME:-10
END:STANDARD
END:VTIMEZONE
END:VCALENDAR