BEGIN:VCALENDAR
VERSION:2.0
PRODID:-//wp-events-plugin.com//7.2.3.1//EN
TZID:Pacific/Tahiti
X-WR-TIMEZONE:Pacific/Tahiti
BEGIN:VEVENT
UID:3@conservatoire.pf
DTSTART;TZID=Pacific/Tahiti:20230429T143000
DTEND;TZID=Pacific/Tahiti:20230429T143000
DTSTAMP:20230706T190721Z
URL:https://conservatoire.pf/events/les-petits-ensembles-du-conservatoire/
SUMMARY:LES PETITS ENSEMBLES DU CONSERVATOIRE
DESCRIPTION:Les petits ensembles classiques et traditionnels du Conservatoi
 re montent sur la scène du salon ENDEAVOUR\, au Tahiti Pearl Beach de Aru
 e\, pour la plus grande joie des parents et des mélomanes.\n\nAu programm
 e de ce concert\, une multiplicité de talents\, naissants ou confirmés :
  le petit orchestre à cordes et la petite harmonie\, les ensembles de fl
 ûte et de clarinette\, le chœur des jeunes talents\, les ensembles de gu
 itare\, de ukulele et de percussions traditionnelles.\n\nTARIFS : 100 XPF 
 12 ans et plus\, 500 XPF moins de 12 ans.\n\nBILLETTERIE AU CONSERVATOIRE 
 (Béatrice\, régie des recettes : TEL 40 50 14 12).
ATTACH;FMTTYPE=image/jpeg:https://conservatoire.pf/wp-content/uploads/2023
 /06/343307918_1079515566769135_8612272222822639996_n.jpeg
CATEGORIES:2023
END:VEVENT
BEGIN:VTIMEZONE
TZID:Pacific/Tahiti
X-LIC-LOCATION:Pacific/Tahiti
BEGIN:STANDARD
DTSTART:20220429T143000
TZOFFSETFROM:-1000
TZOFFSETTO:-1000
TZNAME:-10
END:STANDARD
END:VTIMEZONE
END:VCALENDAR