BEGIN:VCALENDAR
VERSION:2.0
PRODID:-//wp-events-plugin.com//7.2.3.1//EN
TZID:Pacific/Tahiti
X-WR-TIMEZONE:Pacific/Tahiti
BEGIN:VEVENT
UID:40@conservatoire.pf
DTSTART;TZID=Pacific/Tahiti:20250322T193000
DTEND;TZID=Pacific/Tahiti:20250322T213000
DTSTAMP:20250304T011914Z
URL:https://conservatoire.pf/events/les-nuits-du-jazz-soiree-du-samedi-22-
 mars-2025/
SUMMARY:LES NUITS DU JAZZ : SOIREE DU SAMEDI 22 MARS 2025
DESCRIPTION:\n𝐕𝐄𝐍𝐃𝐑𝐄𝐃𝐈 𝟐𝟏 𝐄𝐓 𝐒𝐀
 𝐌𝐄𝐃𝐈 𝟐𝟐 𝐌𝐀𝐑𝐒 𝟐𝟎𝟐𝟓 : 𝐓𝐞 
 𝐅𝐚𝐫𝐞 '𝐔𝐩𝐚 𝐑𝐚𝐮 𝐟𝐚𝐢𝐭 𝐯𝐢𝐛
 𝐫𝐞𝐫 𝐥𝐞 𝐏𝐞𝐭𝐢𝐭 𝐓𝐡𝐞́𝐚̂𝐭𝐫
 𝐞 𝐚𝐮 𝐬𝐨𝐧 𝐝𝐮 𝐉𝐀𝐙𝐙\n\n\n Deux soirées e
 xceptionnelles pour les amoureux de musique ! En partenariat avec Te Fare 
 Tauhiti Nui\, le Big Band du Conservatoire vous invite à une immersion to
 tale dans l’univers du Jazz les 𝐯𝐞𝐧𝐝𝐫𝐞𝐝𝐢 𝟐
 𝟏 𝐞𝐭 𝐬𝐚𝐦𝐞𝐝𝐢 𝟐𝟐 𝐦𝐚𝐫𝐬 𝟐𝟎
 𝟐𝟓 à 𝟏𝟗𝐡𝟑𝟎 𝐚𝐮 𝐏𝐞𝐭𝐢𝐭 𝐓𝐡
 𝐞́𝐚̂𝐭𝐫𝐞 de la Maison de la Culture.\n\n\n 𝐔𝐧 𝐩
 𝐫𝐨𝐠𝐫𝐚𝐦𝐦𝐞 𝐞𝐧𝐯𝐨𝐮̂𝐭𝐚𝐧𝐭 : 
 17 titres incontournables\, du Jazz au Blues\, de “Put the Blame on Mame
 ” à “Smooth Operator” de SADE\, revisités par des artistes de tale
 nt.\n\n\n 𝐃𝐞𝐬 𝐢𝐧𝐯𝐢𝐭𝐞́𝐬 𝐝’𝐞𝐱𝐜
 𝐞𝐩𝐭𝐢𝐨𝐧 :\n 𝐅𝐫𝐞́𝐝𝐞́𝐫𝐢𝐜 𝐌𝐈
 𝐒𝐒𝐈𝐑 – Une voix chaleureuse et une présence captivante\n 
 𝐌𝐚𝐫𝐜𝐨 𝐄𝐋-𝐊𝐇𝐎𝐔𝐑𝐘 – Un crooner au t
 imbre envoûtant\n 𝐌𝐞́𝐥𝐨𝐝𝐢𝐞 𝐏𝐇𝐄𝐍𝐈𝐗
  – Une énergie scénique irrésistible\n 𝐋𝐲𝐥𝐢𝐚 𝐀𝐘
 𝐌𝐀𝐈𝐍 – Une élève du CAPF à la voix suave et musicale\n 
 𝐌𝐢𝐦𝐢 𝐒𝐌𝐎𝐎𝐓𝐇 – Une interprétation moderne 
 du Jazz qui séduit toutes les générations\n\n\n 𝐓𝐚𝐫𝐢𝐟 
 𝐮𝐧𝐢𝐪𝐮𝐞 : 2 000 Fcfp\n 𝐋𝐢𝐞𝐮 : Petit Théâtre
 \, Maison de la Culture\n 𝐁𝐢𝐥𝐥𝐞𝐭𝐭𝐞𝐫𝐢𝐞 
 𝐓𝐅𝐓𝐍 : disponible au guichet et en ligne sur https://billetter
 ie.maisondelaculture.pf/index.php...\n\n\n Ne manquez pas cette immersion 
 musicale unique ! Réservez vos places dès maintenant et laissez-vous tra
 nsporter par la magie du Jazz \n
ATTACH;FMTTYPE=image/jpeg:https://conservatoire.pf/wp-content/uploads/2025
 /03/VF-AFFICHE-LES-NUITS-DU-JAZZ-2025-scaled.jpg
CATEGORIES:2025
END:VEVENT
BEGIN:VTIMEZONE
TZID:Pacific/Tahiti
X-LIC-LOCATION:Pacific/Tahiti
BEGIN:STANDARD
DTSTART:20240322T193000
TZOFFSETFROM:-1000
TZOFFSETTO:-1000
TZNAME:-10
END:STANDARD
END:VTIMEZONE
END:VCALENDAR