BEGIN:VCALENDAR
VERSION:2.0
PRODID:-//wp-events-plugin.com//7.2.3.1//EN
TZID:Pacific/Tahiti
X-WR-TIMEZONE:Pacific/Tahiti
BEGIN:VEVENT
UID:24@conservatoire.pf
DTSTART;TZID=Pacific/Tahiti:20240322T193000
DTEND;TZID=Pacific/Tahiti:20240323T210000
DTSTAMP:20240625T202202Z
URL:https://conservatoire.pf/events/les-nuits-du-jazz-2024/
SUMMARY:Les nuits du jazz 2024
DESCRIPTION:LES NUITS DU JAZZ\, au petit théâtre de la Maison de la Cultu
 re les vendredi 22 et samedi 23 Mars prochains (19:30\, billetterie ouvert
 e au Conservatoire cette semaine et sur place le soir des Concerts. Tarifs
  : 2.000 XPF et 1.000 XPF moins de 12 ans.\n\nLe Maestro Frédéric Rosson
 i et les musiciens du Big Band du Conservatoire vous proposent un moment d
 e partage magique avec les standards de la grande époque du Jazz\, mais 
 également avec des voix aimées par le public : celles de Taloo\, la Diva
  aux pieds nus et de Lylia\, notre jeune étoile\; les voix de crooners de
  Jean Croteau\, notre magnifique chanteur canadien\, de Frédéric Missir 
 et de Marco. Plus une surprise sur scène.
ATTACH;FMTTYPE=image/jpeg:https://conservatoire.pf/wp-content/uploads/2024
 /03/AFFICHE-nuits-du-jazz-2024-scaled.jpg
CATEGORIES:2024
LOCATION:Petit Theatre De La Maison De La Culture\, Papeete\, Papeete\, Fre
 nch Polynesia
X-APPLE-STRUCTURED-LOCATION;VALUE=URI;X-ADDRESS=Papeete\, Papeete\, French 
 Polynesia;X-APPLE-RADIUS=100;X-TITLE=Petit Theatre De La Maison De La Cult
 ure:geo:0,0
END:VEVENT
BEGIN:VTIMEZONE
TZID:Pacific/Tahiti
X-LIC-LOCATION:Pacific/Tahiti
BEGIN:STANDARD
DTSTART:20230323T193000
TZOFFSETFROM:-1000
TZOFFSETTO:-1000
TZNAME:-10
END:STANDARD
END:VTIMEZONE
END:VCALENDAR