BEGIN:VCALENDAR
VERSION:2.0
PRODID:-//wp-events-plugin.com//7.2.3.1//EN
TZID:Pacific/Tahiti
X-WR-TIMEZONE:Pacific/Tahiti
BEGIN:VEVENT
UID:29@conservatoire.pf
DTSTART;TZID=Pacific/Tahiti:20240504T150000
DTEND;TZID=Pacific/Tahiti:20240504T170000
DTSTAMP:20240625T202202Z
URL:https://conservatoire.pf/events/le-concert-des-ensembles/
SUMMARY:LE CONCERT DES ENSEMBLES 2024
DESCRIPTION: Samedi 4 mai 2024\n\n Salon Endeavour - le Tahiti by Pearls Re
 sorts\n\n 15h00
ATTACH;FMTTYPE=image/jpeg:https://conservatoire.pf/wp-content/uploads/2024
 /04/v2-AFFICHE-CONCERT-DES-ENSEMBLES-2024.png
CATEGORIES:2024
END:VEVENT
BEGIN:VTIMEZONE
TZID:Pacific/Tahiti
X-LIC-LOCATION:Pacific/Tahiti
BEGIN:STANDARD
DTSTART:20230505T150000
TZOFFSETFROM:-1000
TZOFFSETTO:-1000
TZNAME:-10
END:STANDARD
END:VTIMEZONE
END:VCALENDAR