BEGIN:VCALENDAR
VERSION:2.0
PRODID:-//wp-events-plugin.com//7.2.3.1//EN
TZID:Pacific/Tahiti
X-WR-TIMEZONE:Pacific/Tahiti
BEGIN:VEVENT
UID:46@conservatoire.pf
DTSTART;TZID=Pacific/Tahiti:20250518T140000
DTEND;TZID=Pacific/Tahiti:20250518T163000
DTSTAMP:20250430T215133Z
URL:https://conservatoire.pf/events/le-concert-des-ensembles-du-fare-upa-r
 au-2025/
SUMMARY:PEHE RAU - LE CONCERT DES ENSEMBLES du FARE 'UPA RAU 2025
DESCRIPTION:Les petits ensembles classiques et traditionnels du Conservatoi
 re montent sur la scène du salon ENDEAVOUR\, au Tahiti Pearl Beach de Aru
 e\, pour la plus grande joie des parents et des mélomanes.\n\nAu programm
 e de ce concert\, une multiplicité de talents\, naissants ou confirmés :
  le petit orchestre à cordes\, la petite harmonie et la grande harmonie\,
  l’ ensemble de  de clarinette\, les ensembles de guitare traditionnell
 e\, de ‘ukulele et de percussions traditionnelles.\n\n Samedi 4 mai 2024
 \n\n Salon Endeavour – le Tahiti by Pearls Resorts\n\n 14h00\n\nTARIF : 
 1500 frs adulte et 500 (-12 ans)\n\nBILLETTERIE : Au Conservatoire et 1 he
 ure avant le début du spectacle
ATTACH;FMTTYPE=image/jpeg:https://conservatoire.pf/wp-content/uploads/2025
 /04/VF-AFFICHE-PEHE-RAU-CONCERT-DES-ENSEMBLES-2025-scaled.png
CATEGORIES:2025
END:VEVENT
BEGIN:VTIMEZONE
TZID:Pacific/Tahiti
X-LIC-LOCATION:Pacific/Tahiti
BEGIN:STANDARD
DTSTART:20240518T140000
TZOFFSETFROM:-1000
TZOFFSETTO:-1000
TZNAME:-10
END:STANDARD
END:VTIMEZONE
END:VCALENDAR