BEGIN:VCALENDAR
VERSION:2.0
PRODID:-//wp-events-plugin.com//7.2.3.1//EN
TZID:Pacific/Tahiti
X-WR-TIMEZONE:Pacific/Tahiti
BEGIN:VEVENT
UID:30@conservatoire.pf
DTSTART;TZID=Pacific/Tahiti:20240622T180000
DTEND;TZID=Pacific/Tahiti:20240622T213000
DTSTAMP:20240625T202135Z
URL:https://conservatoire.pf/events/la-nuit-du-gala-hotu-ora/
SUMMARY:La Nuit du Gala "Hotu Ora"
DESCRIPTION:Date et Heure : Samedi 22 juin 2024 à 18h\n\nLieu : Place To'a
 tā\n\nTarifs : \n\n 	Tribune centrale : 2000 xpf et 1500 xpf (-12 ans)\n
  	Tribunes latérales : 1500 xpf et 1000 xpf (-12 ans)\n\nBilletterie : gu
 ichet de TFTN et en ligne (tél : 40 544 548)\n\n&nbsp\;
ATTACH;FMTTYPE=image/jpeg:https://conservatoire.pf/wp-content/uploads/2024
 /05/VF-Affiche-GALA-CAPF-2024-min.png
CATEGORIES:2024
LOCATION:Place To'ata - Te Fare Tauhiti Nui\, Place To'ata\, Papeete 98714\
 , Polynésie française\, Papeete\, French Polynesia
X-APPLE-STRUCTURED-LOCATION;VALUE=URI;X-ADDRESS=Place To'ata\, Papeete 9871
 4\, Polynésie française\, Papeete\, French Polynesia;X-APPLE-RADIUS=100;
 X-TITLE=Place To'ata - Te Fare Tauhiti Nui:geo:0,0
END:VEVENT
BEGIN:VTIMEZONE
TZID:Pacific/Tahiti
X-LIC-LOCATION:Pacific/Tahiti
BEGIN:STANDARD
DTSTART:20230623T180000
TZOFFSETFROM:-1000
TZOFFSETTO:-1000
TZNAME:-10
END:STANDARD
END:VTIMEZONE
END:VCALENDAR