BEGIN:VCALENDAR
VERSION:2.0
PRODID:-//wp-events-plugin.com//7.2.3.1//EN
TZID:Pacific/Tahiti
X-WR-TIMEZONE:Pacific/Tahiti
BEGIN:VEVENT
UID:16@conservatoire.pf
DTSTART;TZID=Pacific/Tahiti:20231213T150000
DTEND;TZID=Pacific/Tahiti:20231213T170000
DTSTAMP:20231130T010001Z
URL:https://conservatoire.pf/events/journee-des-arts-traditionnels-2023/
SUMMARY:Journée des Arts Traditionnels 2023
DESCRIPTION:La section des Arts traditionnels du Conservatoire artistique T
 E FARE UPA RAU vous convie place To'ata à sa traditionnelle journée "Po
 rtes ouvertes" le mercredi 13 décembre 2023\, à 15:00.\n\nPrès de 1000 
 jeunes artistes de l'établissement danseront\, joueront\, déclameront et
  chanteront pour vous à l'occasion d'un spectacle d'une durée de 02:30.\
 n\nComme chaque année\, ce gala de décembre est offert à la population 
 (entrée et placement libres).  Mauruuru à nos collègues de la Maison d
 e la Culture\,  à nos enseignants\, nos familles et à tous les établis
 sements scolaires partenaires de cette si belle aventure qu'est la CULTURE
 .
ATTACH;FMTTYPE=image/jpeg:https://conservatoire.pf/wp-content/uploads/2023
 /11/CAPF-AFFICHE-JOURNEE-PORTES-OUVERTES.png
CATEGORIES:2023
LOCATION:Place To'ata - Te Fare Tauhiti Nui\, Place To'ata\, Papeete 98714\
 , Polynésie française\, Papeete\, French Polynesia
X-APPLE-STRUCTURED-LOCATION;VALUE=URI;X-ADDRESS=Place To'ata\, Papeete 9871
 4\, Polynésie française\, Papeete\, French Polynesia;X-APPLE-RADIUS=100;
 X-TITLE=Place To'ata - Te Fare Tauhiti Nui:geo:0,0
END:VEVENT
BEGIN:VTIMEZONE
TZID:Pacific/Tahiti
X-LIC-LOCATION:Pacific/Tahiti
BEGIN:STANDARD
DTSTART:20221213T150000
TZOFFSETFROM:-1000
TZOFFSETTO:-1000
TZNAME:-10
END:STANDARD
END:VTIMEZONE
END:VCALENDAR