BEGIN:VCALENDAR
VERSION:2.0
PRODID:-//wp-events-plugin.com//7.2.3.1//EN
TZID:Pacific/Tahiti
X-WR-TIMEZONE:Pacific/Tahiti
BEGIN:VEVENT
UID:8@conservatoire.pf
DTSTART;TZID=Pacific/Tahiti:20220929T180000
DTEND;TZID=Pacific/Tahiti:20221001T180000
DTSTAMP:20230721T183833Z
URL:https://conservatoire.pf/events/jazz-soul-festival/
SUMMARY:JAZZ SOUL FESTIVAL
DESCRIPTION:Ils sont arrivés à Tahiti de cette ville merveilleuse\, la No
 uvelle-Orléans\, et s’apprêtent à partager leur musique si spéciale 
 avec le public polynésien : les musiciens du Festival « Tahiti Soul Jazz
  » 2022 rencontraient la presse\, ce mardi matin\, dans les espaces de l
 ’hôtel intercontinental\, qui accueillera sur son motu trois magnifique
 s concerts les jeudi 29\, vendredi 30 septembre et samedi 1er octobre proc
 hains (à 18 :00).\n\nLa seconde édition de cet incroyable festival\, sou
 tenu par le Pays\, doit beaucoup à l’investissement de sa directrice ar
 tistique\, China Moses\, et du producteur local\, Frédéric Dubuis. Tous 
 deux avaient débuté cette aventure lors du premier festival\, en septemb
 re 2019\, avec comme marraine la plus grande diva vivante de la Soul Music
 \, Dee Dee Bridgewater.\n\nDe nombreuses rencontres étaient et sont prév
 ues avec le conservatoire et son Big Band\, à l‘honneur lors du concert
  de clôture du festival\, mais également avec les élèves et le grand p
 ublic : trois master classes sont organisées dans le grand auditorium de 
 l’établissement ce mardi (16 :00) avec le brass band de la Nouvelle Orl
 éans\, ce mercredi\, avec la jeune diva du jazz Gabrielle Cavassa et enfi
 n ce vendredi\, ave Adonis Rose\, chef musical de la délégation et perso
 nnalité immense du Jazz et de la musique Nord Américaine.\n\nLa déléga
 tion rencontrera demain mercredi matin les étudiants du collège Maco Tev
 ane. De nombreux groupes d’enfants seront qui plus est invités à assis
 ter aux concerts\, tandis que l’organisation a fait le pari de proposer 
 un festival éco responsable avec l’ouverture\, sur le motu de l’hôte
 l\, tout autour de la scène des concerts\, d’un village éco responsabl
 e !\n\nhttps://www.facebook.com/capftefareuparau/videos/518650620263245[ga
 llery ids="1284\,1285\,1286\,1287\,1288\,1289\,1290\,1291\,1292\,1293\,129
 4\,1295\,1296\,1297\,1298\,1299\,1300\,1301\,1302\,1303"]
ATTACH;FMTTYPE=image/jpeg:https://conservatoire.pf/wp-content/uploads/2023
 /06/soul-jazz-festival.jpg
CATEGORIES:2022,Apparition dans Mediathèque
END:VEVENT
BEGIN:VTIMEZONE
TZID:Pacific/Tahiti
X-LIC-LOCATION:Pacific/Tahiti
BEGIN:STANDARD
DTSTART:20210929T180000
TZOFFSETFROM:-1000
TZOFFSETTO:-1000
TZNAME:-10
END:STANDARD
END:VTIMEZONE
END:VCALENDAR