BEGIN:VCALENDAR
VERSION:2.0
PRODID:-//wp-events-plugin.com//7.2.3.1//EN
TZID:Pacific/Tahiti
X-WR-TIMEZONE:Pacific/Tahiti
BEGIN:VEVENT
UID:12@conservatoire.pf
DTSTART;TZID=Pacific/Tahiti:20230722T000000
DTEND;TZID=Pacific/Tahiti:20230730T000000
DTSTAMP:20230719T024529Z
URL:https://conservatoire.pf/events/horoa-le-don/
SUMMARY:HŌRO'A – LE DON
DESCRIPTION:Les festivités du Heiva ne seraient pas les mêmes sans les sp
 ectacles produits sur le Marae 'Ārahurahu\, à Paea\, avec les équipes d
 u Conservatoire artistique - Te Fare ‘Upa Rau.\nSoutenus depuis leurs re
 prises en 2014 avec la troupe O Tahiti E\, par le ministère de la Culture
 \, ces spectacles permettent aux créateurs\, chorégraphes\, artistes\, m
 usiciens et\nartisans de s’exprimer dans un cadre magnifique\, riche\, r
 eliant les Arts traditionnels à leur Histoire.\nCette année\, il est pro
 posé aux groupes inscrits aux compétitions du Heiva de se produire égal
 ement au Marae après les compétitions\, qu’il soit question de ‘ori 
 Tahiti ou de pupu\nhīmene.\n\nAu total\, ce seront donc 4 groupes de dans
 e et 4 groupes de chant qui se produiront sur quatre dates : les samedis 2
 2 et 29 juillet\, et les dimanches 23 et 30 juillet 2023.\nCette formule\,
  différente rappelle l’esprit du festival TAHITI TI’A MAI de 2021.\n\
 nTraditionnellement\, la vente des billets du Marae 'Ārahurahu était ass
 urée par la billetterie en ligne Ticket Pacific\, gérée par Radio 1.\nC
 ette année\, le Conservatoire artistique de la Polynésie française a op
 té pour une gestion interne de la billetterie.\nLes billets seront donc d
 isponibles directement au Conservatoire dès le lundi 10 juillet 2023\, et
  sur place\, les jours de représentation.\n\nLes tarifs sont les suivants
  :\n- Adultes (+12 ans) : 2000 F CFP\n- Enfants (2 à 12 ans) : 1000 F CFP
 \n- Personnes à mobilité réduite : gratuit (sur réservation à l’adr
 esse conservatoire@conservatoire.pf ou par téléphone au +689 40 50 14 14
 )
ATTACH;FMTTYPE=image/jpeg:https://conservatoire.pf/wp-content/uploads/2023
 /07/vf-HOROA-MARAE-2023.jpg
CATEGORIES:2023
LOCATION:Marae Arahurahu\, Paea\, Polynésie française\, Paea\, Paea\, Tah
 iti\, French Polynesia
X-APPLE-STRUCTURED-LOCATION;VALUE=URI;X-ADDRESS=Paea\, Paea\, Tahiti\, Fren
 ch Polynesia;X-APPLE-RADIUS=100;X-TITLE=Marae Arahurahu\, Paea\, Polynési
 e française:geo:0,0
END:VEVENT
BEGIN:VTIMEZONE
TZID:Pacific/Tahiti
X-LIC-LOCATION:Pacific/Tahiti
BEGIN:STANDARD
DTSTART:20220722T000000
TZOFFSETFROM:-1000
TZOFFSETTO:-1000
TZNAME:-10
END:STANDARD
END:VTIMEZONE
END:VCALENDAR