BEGIN:VCALENDAR
VERSION:2.0
PRODID:-//wp-events-plugin.com//7.2.3.1//EN
TZID:Pacific/Tahiti
X-WR-TIMEZONE:Pacific/Tahiti
BEGIN:VEVENT
UID:1@conservatoire.pf
DTSTART;TZID=Pacific/Tahiti:20230607T183000
DTEND;TZID=Pacific/Tahiti:20230607T183000
DTSTAMP:20230726T192939Z
URL:https://conservatoire.pf/events/hamlet-au-petit-theatre/
SUMMARY:HAMLET AU PETIT THÉÂTRE !
DESCRIPTION:Les jeunes comédiens du Conservatoire et du Lycée Paul Gaugui
 n\, dirigés par leur professeure Christine Bennett Thuleau\, relèvent un
  immense défi : interpréter une des pièces les plus célèbres du répe
 rtoire\, HAMLET\, de William SHAKESPEARE\, sur la scène du petit théâtr
 e de la Maison de la Culture.\n\nCe véritable baptême du feu vous permet
 tra de replonger dans un drame célèbre\, et de découvrir les futurs gra
 nds talents de la scène polynésienne.\n\nOuverture de la billetterie au 
 Conservatoire dans une semaine et sur place le soir du spectacle.\n\nRepr
 ésentation unique.\n\nRenseignements : tel 40 50 14 14.\n\nTarif unique :
  1.500 XPF\n\n[gallery ids="550\,547\,449\,448\,450\,445"]\n\n
ATTACH;FMTTYPE=image/jpeg:https://conservatoire.pf/wp-content/uploads/2023
 /06/350137433_1317066409166065_7980568692493514330_n.jpeg
CATEGORIES:2023
LOCATION:Petit Theatre De La Maison De La Culture\, Papeete\, Papeete\, Fre
 nch Polynesia
X-APPLE-STRUCTURED-LOCATION;VALUE=URI;X-ADDRESS=Papeete\, Papeete\, French 
 Polynesia;X-APPLE-RADIUS=100;X-TITLE=Petit Theatre De La Maison De La Cult
 ure:geo:0,0
END:VEVENT
BEGIN:VTIMEZONE
TZID:Pacific/Tahiti
X-LIC-LOCATION:Pacific/Tahiti
BEGIN:STANDARD
DTSTART:20220607T183000
TZOFFSETFROM:-1000
TZOFFSETTO:-1000
TZNAME:-10
END:STANDARD
END:VTIMEZONE
END:VCALENDAR