BEGIN:VCALENDAR
VERSION:2.0
PRODID:-//wp-events-plugin.com//7.2.3.1//EN
TZID:Pacific/Tahiti
X-WR-TIMEZONE:Pacific/Tahiti
BEGIN:VEVENT
UID:11@conservatoire.pf
DTSTART;TZID=Pacific/Tahiti:20221207T150000
DTEND;TZID=Pacific/Tahiti:20221207T150000
DTSTAMP:20230721T032158Z
URL:https://conservatoire.pf/events/gala-des-arts-traditionnels-de-decembr
 e/
SUMMARY:GALA DES ARTS TRADITIONNELS DE DÉCEMBRE
DESCRIPTION:Ils et elles seront entre 600 et 800 élèves enfants\, adolesc
 ents et adultes du Te Fare Upa Rau à se produire\, mercredi 7 décembre p
 rochain à partir de 15:00\, dans les jardins du Musée de Tahiti et des 
 îles\, à Punaauia\, à l'occasion de la journée "Portes Ouvertes 2022 "
  de la section des Arts traditionnels du Conservatoire.\n\nToutes les disc
 iplines traditionnelles seront à l'honneur avec la danse bien évidemment
 \, le 'orero\, les pupu himene et les ensembles instrumentaux\;\n\nNous te
 nions à remercier vivement la directrice de ces superbes espaces\, Miriam
 a Bono\, qui a bien voulu accueillir la grande famille du Conservatoire po
 ur la seconde fois en moins d'un mois\, puisque nous étions déjà prése
 nts le samedi 19 novembre dernier sur place\, à l'occasion de la soirée 
 contes et légendes de la période de l'Abondance\, Tau Auhune.\n\nL'entr
 ée est libre\, le public pouvant choisir de s'installer sur la grande tri
 bune que le service des moyens généraux de la présidence montera lundi 
 prochain\, ou bien sur un peue ou une chaise\, au choix.\n\n[gallery ids="
 1223\,1224\,1225\,1226\,1227\,1228\,1229\,1230\,1231\,1232\,1233\,1234\,12
 35\,1236\,1237\,1238\,1239\,1240\,1241\,1242\,1243\,1244\,1245\,1246\,1247
 \,1248\,1249\,1250\,1251\,1252\,1253\,1254\,1255\,1256\,1257\,1258\,1259\,
 1260\,1261"]
ATTACH;FMTTYPE=image/jpeg:https://conservatoire.pf/wp-content/uploads/2023
 /06/GALA-DES-ARTS-TRADITIONNELS-DE-DECEMBRE.jpeg
CATEGORIES:2022,Apparition dans Mediathèque
END:VEVENT
BEGIN:VTIMEZONE
TZID:Pacific/Tahiti
X-LIC-LOCATION:Pacific/Tahiti
BEGIN:STANDARD
DTSTART:20211207T150000
TZOFFSETFROM:-1000
TZOFFSETTO:-1000
TZNAME:-10
END:STANDARD
END:VTIMEZONE
END:VCALENDAR