BEGIN:VCALENDAR
VERSION:2.0
PRODID:-//wp-events-plugin.com//7.2.3.1//EN
TZID:Pacific/Tahiti
X-WR-TIMEZONE:Pacific/Tahiti
BEGIN:VEVENT
UID:9@conservatoire.pf
DTSTART;TZID=Pacific/Tahiti:20221010T170000
DTEND;TZID=Pacific/Tahiti:20221010T170000
DTSTAMP:20230701T013042Z
URL:https://conservatoire.pf/events/festival-de-ukulele/
SUMMARY:FESTIVAL DE UKULELE
DESCRIPTION:Un festival après l'autre : si les artistes américains du fes
 tival international "Tahiti Soul Jazz" sont repartis à la Nouvelle Orléa
 ns\, d'autres artistes américains sont arrivés hier soir à Tahiti\, dan
 s le cadre de la troisième édition du FIU\, le "Festival International d
 e Ukulele".\n\nTête d'affiche du festival\, Chris FUCHIGAMI est probablem
 ent un des plus grands virtuoses du Monde. Sa technique\, sans pareil\, et
  son sens inné de la composition lui ont valu récemment deux awards. Chr
 is est accompagné par sa mère\, Keiko\, aux claviers.\n\nLes "Birds Watc
 hers" valent également le détour. Ce trio de trois jeunes américains d
 écomplexés joue de manière humoristique et décomplexée tous les grand
 s standards du moment en apportant une incroyable bonne humeur à leur aud
 itoire.\n\nPour preuve\, ces artistes ont été ovationnés\, ce lundi mat
 in\, au collège de Tipaerui\, où ils rencontraient les élèves des clas
 ses CHAM/CHAD (horaires aménagés arts traditionnels) et les lycéens de 
 Paul Gauguin inscrits dans la fameuse section S2TMD (seconde théâtre mus
 ique et danse).\n\nCes artistes se produisent ce lundi soir 10 octobre à 
 17:00 salle Malric du Conservatoire. Et bien sur lors de la grande soirée
  UKULELE au grand théâtre\,c e vendredi 14 octobre à 19:00. Billetterie
  aux guichets de la Maison de la Culture(tel 40 544 544).\n\nUn festival s
 outenu par MAGIC CITY.
ATTACH;FMTTYPE=image/jpeg:https://conservatoire.pf/wp-content/uploads/2023
 /06/FESTIVAL-DE-UKULELE-tahiti-Chris-FUCHIGAMI.jpeg
CATEGORIES:2022
END:VEVENT
BEGIN:VTIMEZONE
TZID:Pacific/Tahiti
X-LIC-LOCATION:Pacific/Tahiti
BEGIN:STANDARD
DTSTART:20211010T170000
TZOFFSETFROM:-1000
TZOFFSETTO:-1000
TZNAME:-10
END:STANDARD
END:VTIMEZONE
END:VCALENDAR