BEGIN:VCALENDAR
VERSION:2.0
PRODID:-//wp-events-plugin.com//7.2.3.1//EN
TZID:Pacific/Tahiti
X-WR-TIMEZONE:Pacific/Tahiti
BEGIN:VEVENT
UID:31@conservatoire.pf
DTSTART;TZID=Pacific/Tahiti:20240614T193000
DTEND;TZID=Pacific/Tahiti:20240614T210000
DTSTAMP:20240625T202202Z
URL:https://conservatoire.pf/events/farid-chamekh/
SUMMARY:Farid CHAMEKH
DESCRIPTION:\nFarid Chamekh sera dans le café-théâtre du 𝙷𝚘𝚊 
 𝙲𝚘𝚖𝚎𝚍𝚢 𝙲𝚕𝚞𝚋 pour deux soirées d'exception !
 \n\nLes billets sont disponibles  :\n\n https://www.fenuamoove.com/event/
 farid-chamekh/\nOu dans les magasins Magic City Pape'ete et Faa'a\n\n\n\n[
 themify_button nofollow="no" link="https://www.fenuamoove.com/event/farid-
 chamekh/?fbclid=IwZXh0bgNhZW0CMTAAAR0CAUAp25w_UAIO-bHlZKB0Y5EAPmL3jBdZ0p7j
 R00sR7Qj_SnM--vwqTE_aem_AcZzYs1myKwonQMIQ7Scb3dkDZ79W3bJwcXvVXuStMoh_jiTwa
 1yWCvarb9O0icokYogeqU39_rlQkSCy8B2w6yf"]VOIR PLUS [/themify_button]
ATTACH;FMTTYPE=image/jpeg:https://conservatoire.pf/wp-content/uploads/2024
 /06/Affiche-Farid-copie-scaled.jpg
CATEGORIES:2024
LOCATION:https://www.fenuamoove.com/event/farid-chamekh/?fbclid=IwZXh0bgNhZ
 W0CMTAAAR0CAUAp25w_UAIO-bHlZKB0Y5EAPmL3jBdZ0p7jR00sR7Qj_SnM--vwqTE_aem_AcZ
 zYs1myKwonQMIQ7Scb3dkDZ79W3bJwcXvVXuStMoh_jiTwa1yWCvarb9O0icokYogeqU39_rlQ
 kSCy8B2w6yf
END:VEVENT
BEGIN:VTIMEZONE
TZID:Pacific/Tahiti
X-LIC-LOCATION:Pacific/Tahiti
BEGIN:STANDARD
DTSTART:20230615T193000
TZOFFSETFROM:-1000
TZOFFSETTO:-1000
TZNAME:-10
END:STANDARD
END:VTIMEZONE
END:VCALENDAR