BEGIN:VCALENDAR
VERSION:2.0
PRODID:-//wp-events-plugin.com//7.2.3.1//EN
TZID:Pacific/Tahiti
X-WR-TIMEZONE:Pacific/Tahiti
BEGIN:VEVENT
UID:6@conservatoire.pf
DTSTART;TZID=Pacific/Tahiti:20220916T180000
DTEND;TZID=Pacific/Tahiti:20220916T180000
DTSTAMP:20230701T012919Z
URL:https://conservatoire.pf/events/fakaheva-tita-pakumotu-5eme-edition-du
 -concours-de-tairi-paumotu/
SUMMARY:FAKAHEVA TITA PAKUMOTU\, 5ème édition du concours de tā’iri pa
 ’umotu
DESCRIPTION:Le Conservatoire artistique de la Polynésie française\, la Ma
 ison de la Culture – Te Fare Tauhiti Nui et le Musée de Tahiti et des 
 îles – Te Fare Manaha ont organisé\, le 16 septembre 2022 à 18h00\, l
 a 5ème édition du concours de tā’iri pa’umotu\, intitulé Fakaheva 
 Tītā.\n\nSi les quatre premières éditions s’étaient déroulées sur
  le Paepae a Hiro de la Maison de la Culture\, les artistes engagés se so
 nt produits pour la première fois dans les jardins du Musée de Tahiti et
  ses îles\, dans le cadre des Journées du Patrimoine 2022.\n\nLe tā’i
 ri pa’umotu faisant partie intégrante du patrimoine culturel polynésie
 n\, le Ministère de la Culture a souhaité qu’une manifestation spécia
 le lui soit dédiée\, afin que cette pratique puisse continuer à vivre\,
  évoluer et surtout être transmise aux jeunes générations.\n\nEn ce se
 ns\, une délégation du collège de Makemo composée de 4 musiciens âgé
 s de 13 à 14 ans a pu prendre part à la compétition.\n\nCe sont donc 8 
 groupes qui se sont affrontés le vendredi 16 septembre 2022\, afin de dé
 fendre cette frappe spécifique à la guitare pa’umotu. Le jury était p
 résidé par Antoine Arakino\, et composé de Maximilien Hauata\, Viri Tai
 mana et Mélinda Tahuhuterani.\n\nIls ont ainsi pu récompenser les groupe
 s suivants :\n\n 	1er prix (200 000 FCFP) : Tamari'i Taenga dirigé par M.
  Kevin NOHO\n 	2ème prix (150 000 FCFP)  : Na Tama a Maruia dirigé par 
 M. Rangimea TAKI\n 	3ème prix (100 000 FCFP)  : Tamariki Haoroagai dirig
 é par M. Samuel TEKEHU\n 	4ème prix : Tamari'i toa arai dirigé par M. P
 autu HAAMOURA\n 	5ème prix : Sissa sue O'kotai piti (2) dirigé par M. Ta
 rivera TEHEI\n 	Prix spécial jeunesse (50 000 FCFP)  : Tamariki fare ha'
 api'ira'a no Makemo dirigé par M. Tinorua TEATA\n 	Prix spécial à la di
 scrétion du jury (50 000 FCFP)  : Tamariki fare ha'api'ira'a no Makemo d
 irigé par M. Tinorua TEATA\n\nFélicitations à tous et à l’année pro
 chaine !
ATTACH;FMTTYPE=image/jpeg:https://conservatoire.pf/wp-content/uploads/2023
 /06/FAKAHEVA-TITA-PAKUMOTU.jpeg
CATEGORIES:2022
END:VEVENT
BEGIN:VTIMEZONE
TZID:Pacific/Tahiti
X-LIC-LOCATION:Pacific/Tahiti
BEGIN:STANDARD
DTSTART:20210916T180000
TZOFFSETFROM:-1000
TZOFFSETTO:-1000
TZNAME:-10
END:STANDARD
END:VTIMEZONE
END:VCALENDAR