BEGIN:VCALENDAR
VERSION:2.0
PRODID:-//wp-events-plugin.com//7.2.3.1//EN
TZID:Pacific/Tahiti
X-WR-TIMEZONE:Pacific/Tahiti
BEGIN:VEVENT
UID:26@conservatoire.pf
DTSTART;TZID=Pacific/Tahiti:20240318T180000
DTEND;TZID=Pacific/Tahiti:20240318T210000
DTSTAMP:20240625T202202Z
URL:https://conservatoire.pf/events/conference-publique-du-professeur-rang
 ianehu-matamua-matarii-2024/
SUMMARY:Conférence publique du professeur Rangiānehu MĀTĀMUA-MATARI’I
  2024
DESCRIPTION:📍: Petit théâtre de la Maison de la Culture\n\n📆: Lundi
  18 mars 2024\n\n🕦: 18 heures\n\nEntrée libre\, billet à récupérer 
 au guichet de TFTN
ATTACH;FMTTYPE=image/jpeg:https://conservatoire.pf/wp-content/uploads/2024
 /03/E566552A-F34E-44FF-A8F8-6E5AEDFD451F.jpeg
CATEGORIES:2024
END:VEVENT
BEGIN:VTIMEZONE
TZID:Pacific/Tahiti
X-LIC-LOCATION:Pacific/Tahiti
BEGIN:STANDARD
DTSTART:20230319T180000
TZOFFSETFROM:-1000
TZOFFSETTO:-1000
TZNAME:-10
END:STANDARD
END:VTIMEZONE
END:VCALENDAR