BEGIN:VCALENDAR
VERSION:2.0
PRODID:-//wp-events-plugin.com//7.2.3.1//EN
TZID:Pacific/Tahiti
X-WR-TIMEZONE:Pacific/Tahiti
BEGIN:VEVENT
UID:7@conservatoire.pf
DTSTART;TZID=Pacific/Tahiti;VALUE=DATE:20221007
DTEND;TZID=Pacific/Tahiti;VALUE=DATE:20221008
DTSTAMP:20240130T005623Z
URL:https://conservatoire.pf/events/concert-de-la-paix/
SUMMARY:CONCERT DE LA PAIX
DESCRIPTION:Les artistes danseurs et chanteurs ovationnés par le grand pub
 lic !\n\nIls et elles ont été formidables : les artistes du Conservatoir
 e engagés sur la scène du 10ème concert de la Paix ont été ovationné
 s par le public\, vendredi 7 octobre\, dans la grande salle de la Mairie d
 e Pirae.\n\nOrganisé avec le concours des membres du club SOROPTIMIST Int
 ernational de Tahiti-Papeete\, ce concert caritatif avait un double but : 
 célébrer la Paix dans un monde en guerre \; et lever des fonds aux fins 
 de financer une série de bourses d'études artistiques pour des jeunes fi
 lles méritantes mais défavorisées.\n\nSi le club SOROPTIMIST avait invi
 té deux superbes chanteuses de Moorea\, Brenda Tihoni et Yolande Kautai\,
  le Conservatoire artistique avait de son côté convié ses danseurs adul
 tes\, vahine et Tane dirigés par Erena Uura et Toanui Mahinui\, puis le c
 hoeur des jeunes talents\, dirigé par Bruno Demougeot et pour finir en be
 auté l'atelier lyrique de Peterson Cowan avec deux grands élèves de cha
 nt : Laetitia Julian et Heiarii Boosie.\n\n[gallery ids="740\,739\,738\,73
 7\,736\,735\,734\,733\,732\,731\,730\,729\,728\,727\,726\,725\,723\,722\,7
 21\,720\,719\,718"]\n\n
ATTACH;FMTTYPE=image/jpeg:https://conservatoire.pf/wp-content/uploads/2023
 /06/CONCERT-DE-LA-PAIX.jpeg
CATEGORIES:2022
END:VEVENT
BEGIN:VTIMEZONE
TZID:Pacific/Tahiti
X-LIC-LOCATION:Pacific/Tahiti
BEGIN:STANDARD
DTSTART:20211007T000000
TZOFFSETFROM:-1000
TZOFFSETTO:-1000
TZNAME:-10
END:STANDARD
END:VTIMEZONE
END:VCALENDAR