BEGIN:VCALENDAR
VERSION:2.0
PRODID:-//wp-events-plugin.com//7.2.3.1//EN
TZID:Pacific/Tahiti
X-WR-TIMEZONE:Pacific/Tahiti
BEGIN:VEVENT
UID:4@conservatoire.pf
DTSTART;TZID=Pacific/Tahiti:20230426T200000
DTEND;TZID=Pacific/Tahiti:20230426T200000
DTSTAMP:20230701T013301Z
URL:https://conservatoire.pf/events/chicago-comedie-musicale/
SUMMARY:CHICAGO\, COMEDIE MUSICALE
DESCRIPTION:CHICAGO :\nLE DEFI D’UNE GRAND COMEDIE MUSICALE\nPOUR LES ELE
 VES DU COURS D’ART DRAMATIQUE !\nAprès plusieurs mois de répétition\,
  les élèves du cycle 3 d’Art dramatique du Conservatoire vont interpr
 éter la célèbre comédie musicale américaine Chicago les mardi 25 avri
 l (pour les scolaires) et 26 avril (grand public) sur la scène du Petit t
 héâtre de la Maison de la culture\, partenaire de l’événement. Un vr
 ai défi pour ces adolescents motivés et talentueux qui chantent\, dansen
 t et jouent… comme à Broadway !\nFaire vibrer le public ? L’emmener d
 ans l’ambiance enivrante des music-halls new-yorkais de Broadway ? Tout 
 cela en restant dans la belle salle du Petit théâtre de la Maison de la 
 culture à Papeete ? C’est la promesse du spectacle préparé par les é
 lèves du cycle 3 de la classe de Christine Bennett du Conservatoire artis
 tique de Polynésie française les mardi 25 et mercredi 26 avril prochains
 .\nSi chaque année\, ces jeunes comédiens en herbe\, âgés de 14 à 18 
 ans impressionnent lors de la représentation de leur pièce de fin d’an
 née\, ils ne devraient pas faillir à la règle cette année encore… Et
  ils réservent même une surprise. Car s’ils ont l’habitude de jouer 
 sur scène des pièces de théâtre\, les élèves de Christine Bennett se
  sont lancés cette année dans un autre registre\, celui enchantant de la
  comédie musicale ! Et pour cette occasion\, ils vont interpréter l’un
 e des plus célèbres d’entre elles\, Chicago de Bob Fosse et Fred Ebb. 
 Jouée pour la première fois le 3 juin 1975 au 46th Street Theatre de Bro
 adway\, cette comédie musicale est l’un des monstres sacrés de cette d
 iscipline artistique. Elle a depuis été interprétée des milliers de fo
 is\, dans de multiples versions et a même obtenu un oscar pour son film e
 n 2003. Au tour cette année des jeunes élèves polynésiens du Conservat
 oire de proposer la leur et d’entraîner le public dans le Chicago de la
  prohibition des années 1920\, dans l’univers carcéral sur les traces 
 de deux femmes qui ne reculent devant rien pour devenir célèbres et tent
 er de retrouver la liberté\, Chicago.\n Danse\, chant\, théâtre\, tr
 ois disciplines\n« C’est une comédie musicale que j’adore\, j’aime
  son ambiance. La personnalité de ces deux filles en prison qui sont prê
 tes à tout pour réussir (…). J’avais envie de jouer cette comédie m
 usicale. Je me suis dit que ce serait intéressant de la proposer comme sp
 ectacle de fin d’année à mes élèves du Conservatoire. Avec Peterson 
 Cowan\, on a commencé à réfléchir à ce projet et ça s’est fait »\
 , confie avec un enthousiasme non feint Christine Bennett\, professeure d
 ’arts dramatiques au Conservatoire artistique de la Polynésie français
 e. Une fois l’accord de la direction de l’établissement artistique\, 
 il a alors fallu s’atteler à la tâche pour les deux professeurs du Con
 servatoire et leurs élèves. « Une élève\, Leila Berbille\, a traduit 
 en français les textes pour les scènes jouées\, pour les chansons\, on 
 a décidé de garder les paroles en anglais. Ce sont des classiques\, le p
 ublic les connaît »\, explique-t-elle.\nUn sacré défi pour ces jeunes 
 de 3e cycle du Conservatoire\, car s’ils ont de belles années d’expé
 rience dans l’art théâtral\, il n’en est pas forcément de même pou
 r le chant ou la danse et ne manient pas tout forcément la langue de Shak
 espeare avec une aisance totale. Mais loin de faire peur aux élèves\, il
 s n’ont pas hésité à se lancer dans le défi et surtout à le relever
 . « C’est passionnant\, car il faut déjà se mettre dans la peau de ce
 s personnages\, de ces femmes\, de leurs attitudes de l’époque\, on n
 ’est pas forcément habituées. Et puis\, il faut chanter en anglais et 
 danser en même temps.»\, avoue Luna Maya Bauduin\, d’un air décidé.\
 n Des cours de chant avec Peterson Cowan\nPour les accompagner\, ils on
 t pu compter sur les précieux conseils du ténor Peterson Cowan Le profes
 seur de chant du Conservatoire les coachent depuis la rentrée une heure p
 ar semaine\, il leur apprend à poser la voix\, à chanter dans ce registr
 e musical qui ne leur pas forcément familier. « Le travail a été d’a
 ssocier la technique avec la danse\, le jeu théâtral et le chant. Il fau
 t donc jouer avec la mise en scène\, la mise en espace et chant. C’est 
 un exercice difficile\, mais très intéressant. Cela permet à ces jeunes
  vraiment d’avoir une vraie notion de ce qu’est la préparation d’un
  tel spectacle. On peut dire que ce sont des amateurs quasi-professionnels
 . La comédie musicale leur apporte vraiment un vrai background pour leur 
 futur artistique »\, explique le professeur de chant.\nPour la danse\, le
 s artistes en herbe ont également pu profiter des conseils de Margaux Sin
 tès\, professeure de danse au centre Tamanu\, lors de stages organisés p
 ar le Conservatoire. Une belle opportunité pour ces jeunes. "On a bien ap
 pris\, c’était très intéressant et formateur. J’adore jouer\, chant
 er et danser. Faire les trois est assez compliqué »\, lance Maya Luna Ba
 uduin\, avant de rajouter dans un grand sourire « surtout avec des talons
  ! ».\n---------------\nInfos pratiques\nMardi 25 avril à 13 h réservé
  aux scolaires (tarif : 500 XPF)\nMercredi 26 avril à 19 h. Tarif : 1.500
  XPF\nAu petit théâtre de la maison de la Culture\nRéservations et rens
 eignements : TEL 40 544 544\, billetterie en ligne et au guichet de T.F.T.
 N.\n-----------\nDistribution :\nKheira Sicard Beljouani\, Anabel\, Landon
 \, Heiava Antivackis\, Louis Barbar\, Julie Beauvais\, Athenais De Coster\
 , Imanol Ivorra Blasco\, Margaux Picard Pignolet\, Jeanne Chabauty\, Jean 
 Arthur\, Leila Berbille\, Luna Maya Baudin\, Tauarii Maoni et Ravahere Har
 t.\nMise en scène et réalisation : Christine BENNETT\nPréparation au ch
 ant et coaching vocal : Peterson COWAN\nChorégraphies : Margaux SINTES\n-
 ------------\nMauruuru à : rédaction du magazine Hiro’a. Texte : Pauli
 ne Stasi et photos : CAPF
ATTACH;FMTTYPE=image/jpeg:https://conservatoire.pf/wp-content/uploads/2023
 /06/341714468_603654878357724_1237941860210849517_n.jpeg
CATEGORIES:2023
END:VEVENT
BEGIN:VTIMEZONE
TZID:Pacific/Tahiti
X-LIC-LOCATION:Pacific/Tahiti
BEGIN:STANDARD
DTSTART:20220426T200000
TZOFFSETFROM:-1000
TZOFFSETTO:-1000
TZNAME:-10
END:STANDARD
END:VTIMEZONE
END:VCALENDAR