BEGIN:VCALENDAR
VERSION:2.0
PRODID:-//wp-events-plugin.com//7.2.3.1//EN
TZID:Pacific/Tahiti
X-WR-TIMEZONE:Pacific/Tahiti
BEGIN:VEVENT
UID:5@conservatoire.pf
DTSTART;TZID=Pacific/Tahiti:20221119T173000
DTEND;TZID=Pacific/Tahiti:20221119T203000
DTSTAMP:20230701T013107Z
URL:https://conservatoire.pf/events/abondance-soiree-contes-et-legendes-du
 -conservatoire/
SUMMARY:ABONDANCE : SOIRÉE CONTES ET LÉGENDES DU CONSERVATOIRE
DESCRIPTION:Dans le cadre de la célébration de l'ouverture de la saison d
 e l'abondance\, le Tau Auhune\, le Conservatoire artistique TE FARE UPA RA
 U organisée\, le samedi 19 novembre à 17:30\, une soirée "Contes et lé
 gendes" entièrement dédiée à la manifestation de l'abondance dans la c
 ulture des cinq archipels.\nAnimée par notre collaboratrice Teremuura\, c
 ette soirée\, dont l'entrée est libre\, est participative. Le public est
  invité à venir avec une offrande de fruits\, et son peue\, pour assiste
 r à un spectacle engageant les élèves de la classe 'orero/storytellig d
 e John Mairai mais égalemetn\, nos meilleurs danseurs et musiciens\, ains
 i qu'un grand nombre d'artistes invités (pupu himene\, groupe marquisien)
 .\nEN BREF\nSoirée "Contes et légendes" de Tau Auhune\njardins du Musée
  de Tahiti et ses îles à Punaauia\nSamedi 19 novembre 2022\, 17:30\nENTR
 ÉE LIBRE\, OFFRANDES\, PEUE
ATTACH;FMTTYPE=image/jpeg:https://conservatoire.pf/wp-content/uploads/2023
 /06/314117733_5548888858494269_5136130961157888079_n.jpeg
CATEGORIES:2022
LOCATION:Jardin du musée de Tahiti et des îles\, Punaauia\, Punaauia\, Fr
 ench Polynesia
X-APPLE-STRUCTURED-LOCATION;VALUE=URI;X-ADDRESS=Punaauia\, Punaauia\, Frenc
 h Polynesia;X-APPLE-RADIUS=100;X-TITLE=Jardin du musée de Tahiti et des 
 îles:geo:0,0
END:VEVENT
BEGIN:VTIMEZONE
TZID:Pacific/Tahiti
X-LIC-LOCATION:Pacific/Tahiti
BEGIN:STANDARD
DTSTART:20211119T173000
TZOFFSETFROM:-1000
TZOFFSETTO:-1000
TZNAME:-10
END:STANDARD
END:VTIMEZONE
END:VCALENDAR