BEGIN:VCALENDAR
VERSION:2.0
PRODID:-//wp-events-plugin.com//7.2.3.1//EN
TZID:Pacific/Tahiti
X-WR-TIMEZONE:Pacific/Tahiti
BEGIN:VEVENT
UID:20@conservatoire.pf
DTSTART;TZID=Pacific/Tahiti:20241125T000000
DTEND;TZID=Pacific/Tahiti:20241125T000000
DTSTAMP:20240625T192410Z
URL:https://conservatoire.pf/events/26eme-stage-internationale-26th-intern
 ational-workshop-traditional-arts-course/
SUMMARY:26ème stage internationale / 26th International Workshop tradition
 al arts course
DESCRIPTION:26th course will take place from 𝐌𝐨𝐧𝐝𝐚𝐲 𝟐
 𝟓 𝐭𝐨 𝐅𝐫𝐢𝐝𝐚𝐲 𝟐𝟗 𝐍𝐨𝐯𝐞𝐦𝐛
 𝐞𝐫 𝟐𝟎𝟐𝟒.\n\n To register an obtain all the informatio\, 
 visit our website wwww.conservatoire.pf. For questions\, contact us at int
 ernationalworkshop@conservatoire.pf \n\n le 26ème stage se déroulera du
  𝐥𝐮𝐧𝐝𝐢 𝟐𝟓 𝐚𝐮 𝐯𝐞𝐧𝐝𝐫𝐞𝐝𝐢 
 𝟐𝟗 𝐧𝐨𝐯𝐞𝐦𝐛𝐫𝐞 𝟐𝟎𝟐𝟒.\nPour vous ins
 crire et obtenir toutes les infos\, visitez notre site web www.conservatoi
 re.pf. Pour des questions\, contactez-nous à internationalworkshop@conser
 vatoire.pf.
ATTACH;FMTTYPE=image/jpeg:https://conservatoire.pf/wp-content/uploads/2024
 /02/26th-international-workshop.jpg
CATEGORIES:2024
END:VEVENT
BEGIN:VTIMEZONE
TZID:Pacific/Tahiti
X-LIC-LOCATION:Pacific/Tahiti
BEGIN:STANDARD
DTSTART:20231126T000000
TZOFFSETFROM:-1000
TZOFFSETTO:-1000
TZNAME:-10
END:STANDARD
END:VTIMEZONE
END:VCALENDAR