BEGIN:VCALENDAR
VERSION:2.0
PRODID:-//wp-events-plugin.com//7.2.3.1//EN
TZID:Pacific/Tahiti
X-WR-TIMEZONE:Pacific/Tahiti
BEGIN:VEVENT
UID:10@conservatoire.pf
DTSTART;TZID=Pacific/Tahiti;VALUE=DATE:20221121
DTEND;TZID=Pacific/Tahiti;VALUE=DATE:20221126
DTSTAMP:20231110T011910Z
URL:https://conservatoire.pf/events/23e-stage-international-des-arts-tradi
 tionnels/
SUMMARY:22È STAGE INTERNATIONAL DES ARTS TRADITIONNELS
DESCRIPTION:Le conservatoire artistique de la Polynésie française organis
 e à Tipaerui\, du lundi 21 au vendredi 25 novembre 2022\, son XXIIème st
 age international de pratique des arts traditionnels.\n\nUn travail de ré
 vision des bases - Ouverte aux pratiquants étrangers et hors territoire\,
  cette semaine d’apprentissage a pour but de permettre aux stagiaires de
  travailler les bases\, pas et postures de la danse traditionnelle tahitie
 nne\, tout en recevant une initiation dans deux disciplines complémentair
 es : les percussions (pehe) et l’art des pupu himene.\n\nContenu des cou
 rs - Les stagiaires se verront proposer à minima dix heures de danse\, ci
 nq heures de percussions et quatre heures de pratique des himene.\n\nA l
 ’issue de la semaine\, le vendredi\, ils présenteront devant un jury pr
 ofessionnel les chorégraphies préparées avec leurs enseignants et corre
 spondant à leur niveau d’inscription. Un point demeure essentiel : le c
 onservatoire ne délivre pas de diplômes aux stagiaires\, mais une attest
 ation de présence avec une mention\n\nHistorique - Lancés courant 2009\,
  les stages internationaux du Conservatoire ont été organisés en six ni
 veaux\, correspondant à six temps de présence pour les pratiquants. L’
 accession au sixième niveau permet aux pratiquants de tenter d’obtenir 
 une distinction rare : le prix international Louise Kimitete\, qui pour l
 ’instant a été décerné une seule fois à une danseuse américaine\, 
 Desiree Woodward-Lee.\n\nLe XXIème et dernier stage en date s‘était te
 nu du lundi 2 au vendredi 6 décembre 2019\, et avait réuni 79 pratiquant
 s\, Vahine et Tane\, provenant essentiellement du Mexique\, du Japon\, des
  Etats-Unis et de métropole. Le XXIIème stage a pour l’instant enregis
 tré une vingtaine de pratiquants\, dont la grande majorité provient cett
 e année du Mexique. Mais nous comptons également des stagiaires originai
 res de Nouvelle-Calédonie\, de Fiji et d’Australie\, ce qui traduit l
 ’intérêt grandissant de nos cousins du Pacifique pour le ‘ori tahiti
 . Concernant l’Europe\, nous avons aussi des participantes de France et 
 d’Espagne.\n\nLes liaisons aériennes avec le Japon n’ayant pas encore
  été relancées\, les pratiquantes japonaises se positionnent d’ores e
 t déjà en juin 2023\, à l’occasion du XXIIIème stage. Le coût d’u
 ne semaine de stage est de 40.000 XPF.
ATTACH;FMTTYPE=image/jpeg:https://conservatoire.pf/wp-content/uploads/2023
 /06/23E-STAGE-INTERNATIONAL-DES-ARTS-TRADITIONNELS.jpeg
CATEGORIES:2022
END:VEVENT
BEGIN:VTIMEZONE
TZID:Pacific/Tahiti
X-LIC-LOCATION:Pacific/Tahiti
BEGIN:STANDARD
DTSTART:20211121T000000
TZOFFSETFROM:-1000
TZOFFSETTO:-1000
TZNAME:-10
END:STANDARD
END:VTIMEZONE
END:VCALENDAR