BEGIN:VCALENDAR
VERSION:2.0
PRODID:-//wp-events-plugin.com//7.2.3.1//EN
TZID:Pacific/Tahiti
X-WR-TIMEZONE:Pacific/Tahiti
BEGIN:VEVENT
UID:21@conservatoire.pf
DTSTART;TZID=Pacific/Tahiti:20240308T191500
DTEND;TZID=Pacific/Tahiti:20240308T213000
DTSTAMP:20240625T202202Z
URL:https://conservatoire.pf/events/%f0%9f%8e%b6%e2%9c%a812-eme-concert-de
 -la-femme-%f0%9f%8e%b6%e2%9c%a8/
SUMMARY:🎶✨12 ème Concert de la Femme 🎶✨
DESCRIPTION:📅 Date: Vendredi 8 mars 2024\n🕒 Heure: 19h15\n📍 Lieu: 
 Mairie de Pirae\nChères amies mélomanes et passionnées de la culture\, 
 avec les Soroptimist Tahiti\, nous sommes ravis de vous inviter au 𝟏
 𝟐𝐞̀𝐦𝐞 𝐂𝐨𝐧𝐜𝐞𝐫𝐭 𝐝𝐞 𝐥𝐚 𝐅𝐞
 𝐦𝐦𝐞\, une soirée exceptionnelle dédiée à célébrer la force 
 et la grâce des femmes à travers la musique.\n🌺 Au Programme:\n👉 O
 uverture par un ‘ōrero \n👉Des ori tahiti envoûtants dirigés par Mo
 on\, accompagnés de l'orchestre traditionnel du Te Fare Upa Rau.\n👉L'
 éloge à la femme par Véronique Spitz\, accompagnée par la talentueuse 
 Maryse Castello au violoncelle.\n👉Un voyage musical à travers les arts
  classiques\, avec des performances de musique de chambre par les éminent
 s professeurs du conservatoire\, orchestré par Guillaume DOR\, et le choe
 ur de l'atelier lyrique\, dirigé par Peterson Cowan.\n👉En apothéose\,
  un Concert Rapa enflammé avec Steve Angia et ses musiciens originaires d
 e Rapa.\n🎟️ Billetterie:\nLa billetterie ouvrira bientôt ses portes 
 au Conservatoire. Restez à l'écoute pour plus d'informations sur la date
  d'ouverture. Vous pourrez également acheter vos billets sur place le jou
 r J\, à partir de 18h.\n💖 Prix du Billet:\n2000 FCP\nNe manquez pas ce
 tte soirée magique où la musique célèbrera la puissance\, la grâce et
  la diversité des femmes. Invitez vos amis\, partagez l'événement et pr
 éparez vous à vivre une expérience musicale inoubliable !
ATTACH;FMTTYPE=image/jpeg:https://conservatoire.pf/wp-content/uploads/2024
 /02/CONCERT-DE-LA-FEMME-2024-a-diffuser.jpg
CATEGORIES:2024
END:VEVENT
BEGIN:VTIMEZONE
TZID:Pacific/Tahiti
X-LIC-LOCATION:Pacific/Tahiti
BEGIN:STANDARD
DTSTART:20230309T191500
TZOFFSETFROM:-1000
TZOFFSETTO:-1000
TZNAME:-10
END:STANDARD
END:VTIMEZONE
END:VCALENDAR