BEGIN:VCALENDAR
VERSION:2.0
PRODID:-//wp-events-plugin.com//7.2.3.1//EN
TZID:Pacific/Tahiti
X-WR-TIMEZONE:Pacific/Tahiti
BEGIN:VEVENT
UID:47@conservatoire.pf
DTSTART;TZID=Pacific/Tahiti:20250526T080000
DTEND;TZID=Pacific/Tahiti:20250606T160000
DTSTAMP:20250430T215923Z
URL:https://conservatoire.pf/events/%f0%9f%8e%a8%e2%9c%a8-aumata-lexpositi
 on-des-arts-visuels-du-conservatoire-artistique-%e2%9c%a8%f0%9f%8e%a8/
SUMMARY:🎨✨ AUMATA – L’exposition des Arts Visuels du Conservatoire
  Artistique ✨🎨
DESCRIPTION:Le Conservatoire Artistique de la Polynésie française – Te 
 Fare ‘Upa Rau a le plaisir de vous inviter à découvrir AUMATA\, l’ex
 position annuelle du département des Arts Visuels.\n\n📍 Petit auditori
 um du Conservatoire\, de Tipaeru’i\n\n🗓️ Ouverture au public :\n
 🔹 Du lundi 26 au mercredi 28 mai 2025 – de 8h à 16h\n🎉 Vernissage
  : le Lundi 26 mai à 17h\n\nUne exposition haute en couleurs et en créat
 ivité\, mêlant œuvres d’élèves de haut niveau et productions des pl
 us jeunes artistes du Conservatoire.\n\n🖌️ Au programme : tableaux\, 
 gravures sur objets\, installations artistiques\, et bien plus encore…\n
 \nLaissez-vous émerveiller par l’univers riche\, sensible et inventif d
 e la nouvelle génération d’artistes polynésiens !\n\n📣 L’exposit
 ion se poursuivra ensuite pour les établissements scolaires\, du lundi 2 
 au vendredi 6 juin 2025.\n\nLes écoles intéressées sont invitées à r
 éserver leur créneau par mail à conservatoire@conservatoire.pf ou par t
 éléphone au 40 50 14 18.
ATTACH;FMTTYPE=image/jpeg:https://conservatoire.pf/wp-content/uploads/2025
 /04/VF-AFFICHE-EXPOSITION-AUMATA-CAPF2025-scaled.png
CATEGORIES:2025
END:VEVENT
BEGIN:VTIMEZONE
TZID:Pacific/Tahiti
X-LIC-LOCATION:Pacific/Tahiti
BEGIN:STANDARD
DTSTART:20240526T080000
TZOFFSETFROM:-1000
TZOFFSETTO:-1000
TZNAME:-10
END:STANDARD
END:VTIMEZONE
END:VCALENDAR