BEGIN:VCALENDAR
VERSION:2.0
PRODID:-//wp-events-plugin.com//7.2.3.1//EN
TZID:Pacific/Tahiti
X-WR-TIMEZONE:Pacific/Tahiti
BEGIN:VEVENT
UID:48@conservatoire.pf
DTSTART;TZID=Pacific/Tahiti:20250614T173000
DTEND;TZID=Pacific/Tahiti:20250614T220000
DTSTAMP:20250523T230037Z
URL:https://conservatoire.pf/events/%f0%9f%8c%9f%e2%9c%a8-%f0%9d%90%86%f0%
 9d%90%80%f0%9d%90%8b%f0%9d%90%80-%f0%9d%90%83%f0%9d%90%84%f0%9d%90%92-%f0%
 9d%90%80%f0%9d%90%91%f0%9d%90%93%f0%9d%90%92-%f0%9d%90%93%f0%9d%90%91%f0%9
 d%90%80/
SUMMARY:🌟✨ 𝐆𝐀𝐋𝐀 𝐃𝐄𝐒 𝐀𝐑𝐓𝐒 𝐓𝐑𝐀
 𝐃𝐈𝐓𝐈𝐎𝐍𝐍𝐄𝐋𝐒  – TE RA'I MĀTUATUA✨
DESCRIPTION:\n Samedi 14 juin 2024\n À 17h30\n Place To’atā – Papeete
 \n\n\n Laissez-vous emporter par la magie de la culture polynésienne lors
  de cet événement exceptionnel\, où danses\, chants et instruments trad
 itionnels vous plongeront dans un univers vibrant et sacré…\n\n\n Cette
  année\, le thème "Te ra'i mātuatua"\, imaginé par Yann Paa\, auteur\,
  vous invite à une réflexion céleste sur la cosmogonie polynésienne .\
 nDans nos traditions\, les astres ne sont pas de simples étoiles : ce son
 t des entités vivantes\, gardiennes de mémoires\, de mythes et de savoir
 s ancestraux.\n Le ciel devient océan sacré\, habité de dieux\, de cons
 tellations\, de requins célestes\, et de sternes lumineuses. Il rythme la
  vie\, guide nos pas et nous relie à nos origines.\n\n\n Dirigée par Van
 ina Ehu-Yan\, la section des Arts Traditionnels du Fare 'Upa Rau engagera 
 pour ce grand gala :\n toutes les classes d’âge de danse traditionnelle
 \,\n les élèves de ‘ōrero\,\n les ensembles de Hīmene Tumu\,\n les o
 rchestres traditionnels.\n\n\n Vincent Wargnier\; René Maillard et Manao 
 Photo\n\n\n 𝐓𝐀𝐑𝐈𝐅𝐒 :\n Tribunes centrales : 2000 XPF (ad
 ultes) / 1500 XPF (-12 ans)\n Tribunes latérales : 1500 XPF (adultes) / 1
 000 XPF (-12 ans)\n\n\n𝐁𝐢𝐥𝐥𝐞𝐭𝐭𝐞𝐫𝐢𝐞 𝐎
 𝐔𝐕𝐄𝐑𝐓𝐄 :\n À la Maison de la Culture de Tahiti - Te Far
 e Tauhiti Nui\n Et en ligne : https://billetterie.maisondelaculture.pf/ind
 ex.php?ev=0UZrPV\n\n\n Infos : 40 544 544 ou conservatoire@conservatoire.p
 f\n Tous nos événements : https://conservatoire.pf/evenements/\n\n\n Év
 énement organisé en partenariat avec la Maison de la Culture – Te Fare
  Tauhiti Nui\n\n\n Venez vibrer avec nous sous les étoiles\, et célébre
 r l’héritage vivant de notre culture polynésienne…\n
ATTACH;FMTTYPE=image/jpeg:https://conservatoire.pf/wp-content/uploads/2025
 /05/VF-AFFICHE-GALA-DES-ARTS-TRADS-CAPF-2025-scaled.png
CATEGORIES:2025
END:VEVENT
BEGIN:VTIMEZONE
TZID:Pacific/Tahiti
X-LIC-LOCATION:Pacific/Tahiti
BEGIN:STANDARD
DTSTART:20240614T173000
TZOFFSETFROM:-1000
TZOFFSETTO:-1000
TZNAME:-10
END:STANDARD
END:VTIMEZONE
END:VCALENDAR