BEGIN:VCALENDAR
VERSION:2.0
PRODID:-//wp-events-plugin.com//7.2.3.1//EN
TZID:Pacific/Tahiti
X-WR-TIMEZONE:Pacific/Tahiti
BEGIN:VEVENT
UID:33@conservatoire.pf
DTSTART;TZID=Pacific/Tahiti:20240728T080000
DTEND;TZID=Pacific/Tahiti:20240728T230000
DTSTAMP:20240625T204655Z
URL:https://conservatoire.pf/events/%f0%9d%90%8f%f0%9d%90%80%f0%9d%90%88%f
 0%9d%90%80%f0%9d%90%93%f0%9d%90%94%f0%9d%90%80-%f0%9d%90%92%f0%9d%90%8f%f0
 %9d%90%84%f0%9d%90%82%f0%9d%90%93%f0%9d%90%80%f0%9d%90%82%f0%9d%90%8b%f0%9
 d%90%84-2/
SUMMARY:𝐏𝐀'𝐈𝐀𝐓𝐔𝐀 : 𝐒𝐏𝐄𝐂𝐓𝐀𝐂𝐋
 𝐄  𝐒𝐔𝐑 𝐋𝐄 𝐌𝐀𝐑𝐀𝐄 𝐀𝐑𝐀𝐇𝐔𝐑
 𝐀𝐇𝐔 !
DESCRIPTION:Informations pratiques :\n\n 	Vente des billets au Conservatoir
 e TE FARE 'UPA RAU :\n\n 	Lundi au jeudi : 8h00 à 17h00\n 	Vendredi : 8h0
 0 à 16h00\n\n\n 	Tarifs :\n\n 	Adultes : 2.000 FCFP\n 	Enfants (moins de 
 12 ans) : 1.000 FCFP\n\n\n 	Billets également disponibles sur place les j
 ours de spectacle.\n 	Accès gratuit pour les personnes à mobilité rédu
 ite avec un ticket.\n\nContact : 40 50 14 14
ATTACH;FMTTYPE=image/jpeg:https://conservatoire.pf/wp-content/uploads/2024
 /06/Affiche-Marae-22062024.jpg
CATEGORIES:2024
END:VEVENT
BEGIN:VTIMEZONE
TZID:Pacific/Tahiti
X-LIC-LOCATION:Pacific/Tahiti
BEGIN:STANDARD
DTSTART:20230729T080000
TZOFFSETFROM:-1000
TZOFFSETTO:-1000
TZNAME:-10
END:STANDARD
END:VTIMEZONE
END:VCALENDAR